BEGIN:VCALENDAR
VERSION:2.0
PRODID:-//Oxford Poetry Library - ECPv6.15.20//NONSGML v1.0//EN
CALSCALE:GREGORIAN
METHOD:PUBLISH
X-ORIGINAL-URL:https://oxfordpoetrylibrary.com
X-WR-CALDESC:Events for Oxford Poetry Library
REFRESH-INTERVAL;VALUE=DURATION:PT1H
X-Robots-Tag:noindex
X-PUBLISHED-TTL:PT1H
BEGIN:VTIMEZONE
TZID:UTC
BEGIN:STANDARD
TZOFFSETFROM:+0000
TZOFFSETTO:+0000
TZNAME:UTC
DTSTART:20250101T000000
END:STANDARD
END:VTIMEZONE
BEGIN:VEVENT
DTSTART;TZID=UTC:20260704T130000
DTEND;TZID=UTC:20260704T150000
DTSTAMP:20260421T110458
CREATED:20260112T131214Z
LAST-MODIFIED:20260112T131214Z
UID:12776-1783170000-1783177200@oxfordpoetrylibrary.com
SUMMARY:Drafting Table - workshop session
DESCRIPTION:Welcome to our poetry drafting group\, where we share our emerging poems with each other and provide feedback in a safe and inclusive environment. \nMaybe you have been attending the Getting Started sessions and feel ready to edit your work and develop your ideas. Maybe you’re an experienced but unpublished poet who wants to take those next steps in your poetry career. If you feel you’d like to join us\, please bring along at least one unfinished\, unpublished work-in-progress that you’re willing to share with the whole group. We are normally able to hear and give feedback to around 6 or 7 poets per session. \nRegular attendance is encouraged\, to help us build a trusting and collaborative community. \nFeel free to email queries to opldraftingtable@gmail.com \nWe meet: \n1-3pm \nFirst Saturday of every month at The Community Works – enter via the side entrance for the Event Space \n21 Park End Street OX1 1HH
URL:https://oxfordpoetrylibrary.com/event/drafting-table-workshop-session-38/
LOCATION:The Community Works\, 21 Park End Street\, Oxford\, OX1 1HH\, United Kingdom
END:VEVENT
END:VCALENDAR